BEGIN:VCALENDAR
VERSION:2.0
PRODID:-// - ECPv6.15.20//NONSGML v1.0//EN
CALSCALE:GREGORIAN
METHOD:PUBLISH
X-ORIGINAL-URL:https://muehlenfreunde-ennigerloh.de
X-WR-CALDESC:Veranstaltungen für 
REFRESH-INTERVAL;VALUE=DURATION:PT1H
X-Robots-Tag:noindex
X-PUBLISHED-TTL:PT1H
BEGIN:VTIMEZONE
TZID:Europe/Berlin
BEGIN:DAYLIGHT
TZOFFSETFROM:+0100
TZOFFSETTO:+0200
TZNAME:CEST
DTSTART:20250330T010000
END:DAYLIGHT
BEGIN:STANDARD
TZOFFSETFROM:+0200
TZOFFSETTO:+0100
TZNAME:CET
DTSTART:20251026T010000
END:STANDARD
BEGIN:DAYLIGHT
TZOFFSETFROM:+0100
TZOFFSETTO:+0200
TZNAME:CEST
DTSTART:20260329T010000
END:DAYLIGHT
BEGIN:STANDARD
TZOFFSETFROM:+0200
TZOFFSETTO:+0100
TZNAME:CET
DTSTART:20261025T010000
END:STANDARD
BEGIN:DAYLIGHT
TZOFFSETFROM:+0100
TZOFFSETTO:+0200
TZNAME:CEST
DTSTART:20270328T010000
END:DAYLIGHT
BEGIN:STANDARD
TZOFFSETFROM:+0200
TZOFFSETTO:+0100
TZNAME:CET
DTSTART:20271031T010000
END:STANDARD
END:VTIMEZONE
BEGIN:VEVENT
DTSTART;TZID=Europe/Berlin:20260606T150000
DTEND;TZID=Europe/Berlin:20260606T200000
DTSTAMP:20260421T122301
CREATED:20260225T152527Z
LAST-MODIFIED:20260417T203510Z
UID:630-1780758000-1780776000@muehlenfreunde-ennigerloh.de
SUMMARY:Mühlenfreunde Radtour ... nach Hoetmar
DESCRIPTION:Der Vorstand plant eine geführte Radtour nach Hoetmar anzubieten. \nTeilnahme für Jedermann möglich \nIm Moment steht der 6. Juni als Termin im Raum. Alternativ steht auch der 1. Juni im Raum. \nDie Entscheidung ist noch nicht gefallen. \nBei Interesse bitte in der WhatsApp Gruppe „Mühlenfreunde Ennigerloh“ melden oder sich telefonisch an HJ Heuckmann unter 02524 4954 wenden. \nWeitere Details werden noch bekannt gegeben\, wenn der Termin feststeht.
URL:https://muehlenfreunde-ennigerloh.de/event/muehlenfreunde-radtour-nach-hoetmar/
CATEGORIES:Veranstaltung
END:VEVENT
END:VCALENDAR